BEGIN:VCALENDAR
VERSION:2.0
PRODID:-//CPA CŒUR DU HAINAUT - ECPv6.15.20//NONSGML v1.0//EN
CALSCALE:GREGORIAN
METHOD:PUBLISH
X-ORIGINAL-URL:https://cpa-coeurduhainaut.be
X-WR-CALDESC:Évènements pour CPA CŒUR DU HAINAUT
REFRESH-INTERVAL;VALUE=DURATION:PT1H
X-Robots-Tag:noindex
X-PUBLISHED-TTL:PT1H
BEGIN:VTIMEZONE
TZID:Europe/Helsinki
BEGIN:DAYLIGHT
TZOFFSETFROM:+0200
TZOFFSETTO:+0300
TZNAME:EEST
DTSTART:20250330T010000
END:DAYLIGHT
BEGIN:STANDARD
TZOFFSETFROM:+0300
TZOFFSETTO:+0200
TZNAME:EET
DTSTART:20251026T010000
END:STANDARD
BEGIN:DAYLIGHT
TZOFFSETFROM:+0200
TZOFFSETTO:+0300
TZNAME:EEST
DTSTART:20260329T010000
END:DAYLIGHT
BEGIN:STANDARD
TZOFFSETFROM:+0300
TZOFFSETTO:+0200
TZNAME:EET
DTSTART:20261025T010000
END:STANDARD
BEGIN:DAYLIGHT
TZOFFSETFROM:+0200
TZOFFSETTO:+0300
TZNAME:EEST
DTSTART:20270328T010000
END:DAYLIGHT
BEGIN:STANDARD
TZOFFSETFROM:+0300
TZOFFSETTO:+0200
TZNAME:EET
DTSTART:20271031T010000
END:STANDARD
END:VTIMEZONE
BEGIN:VEVENT
DTSTART;TZID=Europe/Helsinki:20260306T084500
DTEND;TZID=Europe/Helsinki:20260306T120000
DTSTAMP:20260424T130311
CREATED:20260109T091729Z
LAST-MODIFIED:20260210T104717Z
UID:7997-1772786700-1772798400@cpa-coeurduhainaut.be
SUMMARY:L'Enigme du Festin Vert - Atelier-découverte
DESCRIPTION:Un Escape Game péda­go­gique gra­tuit pour décou­vrir l’a­li­men­ta­tion durable \nDans le cadre du Conseil de poli­tique ali­men­taire du Cœur du Hai­naut\, les membres du groupe de tra­vail “Sen­si­bi­li­sa­tion” vous invitent à venir décou­vrir l’Es­cape Game dans les locaux du CLPS de Mons-Soignies. \n𝗟𝗲 𝗽𝗿𝗶𝗻𝗰𝗶𝗽𝗲? En équipe\, explo­rez le Jar­din Sus­pen­du\, résol­vez 6 énigmes et ras­sem­blez les ingré­dients d’une recette secrète capable de sau­ver la pla­nète. Objec­tifs du jeu coopératif: \n Décou­vrir et se fami­lia­ri­ser avec la notion d’alimentation durable \n  Expé­ri­men­ter un outil péda­go­gique ludique et inter­ac­tif\, direc­te­ment appli­cable avec vos publics \n Explo­rer des pistes pour s’approprier l’escape game et l’utiliser effi­ca­ce­ment avec vos publics \nCondi­tions de par­ti­ci­pa­tion:  \n  \nPar­ti­ci­pa­tion gra­tuite mais ins­crip­tion obli­ga­toire (maxi­mum 2 personnes/structure) avant le 15 février 2026 via ce lien.  \n⇒ COMPLET \nPublic: tous ceux qui sou­haitent sen­si­bi­li­ser leur public aux enjeux de l’alimentation durable: (futurs) pro­fes­sion­nels du sec­teur de la san­té\, du social\, de l’associatif\, ou de l’enseignement… \nInfor­ma­tions:  \n  \nPro­vince de Hai­naut - Hai­naut Développement \nCathe­rine COLLIE - Mail: catherine.collie@hainaut.be - Tél.: +32 65 342 598 \nCLPS Mons-Soi­gnies \nLao­ra PADALINA - Mail: laora.padalina@clpsms.be - Tél.: +32 64 842 525 \n \n 
URL:https://cpa-coeurduhainaut.be/evenement/lenigme-du-festin-vert-atelier-decouverte/
LOCATION:CLPS Mons-Soignies\, rue de la Loi 30\, La Louvière\, 7100
ATTACH;FMTTYPE=image/jpeg:https://cpa-coeurduhainaut.be/wp-content/uploads/2026/01/Enigme-du-Festin-vert.jpg
END:VEVENT
END:VCALENDAR