BEGIN:VCALENDAR
VERSION:2.0
PRODID:-//CPA CŒUR DU HAINAUT - ECPv6.15.20//NONSGML v1.0//EN
CALSCALE:GREGORIAN
METHOD:PUBLISH
X-ORIGINAL-URL:https://cpa-coeurduhainaut.be
X-WR-CALDESC:Évènements pour CPA CŒUR DU HAINAUT
REFRESH-INTERVAL;VALUE=DURATION:PT1H
X-Robots-Tag:noindex
X-PUBLISHED-TTL:PT1H
BEGIN:VTIMEZONE
TZID:Europe/Helsinki
BEGIN:DAYLIGHT
TZOFFSETFROM:+0200
TZOFFSETTO:+0300
TZNAME:EEST
DTSTART:20250330T010000
END:DAYLIGHT
BEGIN:STANDARD
TZOFFSETFROM:+0300
TZOFFSETTO:+0200
TZNAME:EET
DTSTART:20251026T010000
END:STANDARD
BEGIN:DAYLIGHT
TZOFFSETFROM:+0200
TZOFFSETTO:+0300
TZNAME:EEST
DTSTART:20260329T010000
END:DAYLIGHT
BEGIN:STANDARD
TZOFFSETFROM:+0300
TZOFFSETTO:+0200
TZNAME:EET
DTSTART:20261025T010000
END:STANDARD
BEGIN:DAYLIGHT
TZOFFSETFROM:+0200
TZOFFSETTO:+0300
TZNAME:EEST
DTSTART:20270328T010000
END:DAYLIGHT
BEGIN:STANDARD
TZOFFSETFROM:+0300
TZOFFSETTO:+0200
TZNAME:EET
DTSTART:20271031T010000
END:STANDARD
END:VTIMEZONE
BEGIN:VEVENT
DTSTART;TZID=Europe/Helsinki:20260317T173000
DTEND;TZID=Europe/Helsinki:20260317T203000
DTSTAMP:20260424T130138
CREATED:20251215T095242Z
LAST-MODIFIED:20260310T145206Z
UID:7955-1773768600-1773779400@cpa-coeurduhainaut.be
SUMMARY:Réunion de travail "Projet alimentaire territorial du Cœur du Hainaut"
DESCRIPTION:Infor­ma­tions:  \n  \nPro­vince de Hai­naut - Hai­naut Développement: \nCathe­rine COLLIE - Mail: catherine.collie@hainaut.be - Tél.: +32 65 342 598 \nPro­vince de Hai­naut - Obser­va­toire de la San­té du Hainaut:  \nTania DI CALOGERO - Mail: tania.di_calogero@hainaut.be - Tél.: +32 65 879 632
URL:https://cpa-coeurduhainaut.be/evenement/2e-cycle-du-conseil-de-politique-alimentaire-du-coeur-du-hainaut-reunion-pleniere-5/
LOCATION:Province de Hainaut - Hainaut Développement\, Boulevard Initialis 22\, Mons\, Hainaut\, 7000\, Belgique
ATTACH;FMTTYPE=image/jpeg:https://cpa-coeurduhainaut.be/wp-content/uploads/2025/02/480105821_649992310888115_982628135160562661_n.jpg
END:VEVENT
END:VCALENDAR