BEGIN:VCALENDAR
VERSION:2.0
PRODID:-//CPA CŒUR DU HAINAUT - ECPv6.15.20//NONSGML v1.0//EN
CALSCALE:GREGORIAN
METHOD:PUBLISH
X-ORIGINAL-URL:https://cpa-coeurduhainaut.be
X-WR-CALDESC:Évènements pour CPA CŒUR DU HAINAUT
REFRESH-INTERVAL;VALUE=DURATION:PT1H
X-Robots-Tag:noindex
X-PUBLISHED-TTL:PT1H
BEGIN:VTIMEZONE
TZID:Europe/Helsinki
BEGIN:DAYLIGHT
TZOFFSETFROM:+0200
TZOFFSETTO:+0300
TZNAME:EEST
DTSTART:20250330T010000
END:DAYLIGHT
BEGIN:STANDARD
TZOFFSETFROM:+0300
TZOFFSETTO:+0200
TZNAME:EET
DTSTART:20251026T010000
END:STANDARD
BEGIN:DAYLIGHT
TZOFFSETFROM:+0200
TZOFFSETTO:+0300
TZNAME:EEST
DTSTART:20260329T010000
END:DAYLIGHT
BEGIN:STANDARD
TZOFFSETFROM:+0300
TZOFFSETTO:+0200
TZNAME:EET
DTSTART:20261025T010000
END:STANDARD
BEGIN:DAYLIGHT
TZOFFSETFROM:+0200
TZOFFSETTO:+0300
TZNAME:EEST
DTSTART:20270328T010000
END:DAYLIGHT
BEGIN:STANDARD
TZOFFSETFROM:+0300
TZOFFSETTO:+0200
TZNAME:EET
DTSTART:20271031T010000
END:STANDARD
END:VTIMEZONE
BEGIN:VEVENT
DTSTART;TZID=Europe/Helsinki:20260520T180000
DTEND;TZID=Europe/Helsinki:20260520T190000
DTSTAMP:20260424T114236
CREATED:20260417T080148Z
LAST-MODIFIED:20260417T084352Z
UID:8110-1779300000-1779303600@cpa-coeurduhainaut.be
SUMMARY:5e édition du Festival "Nourrir le Cœur du Hainaut" - Séance d'information en ligne (1/2)
DESCRIPTION:  \nEnvie d’en apprendre plus sur la 5e édi­tion du Fes­ti­val “Nour­rir le Coeur du Hainaut” ? \n  \nIns­crip­tions: via ce for­mu­laire \n  \nInfor­ma­tions:  \n  \nPro­vince de Hai­naut - Hai­naut Développement  \nCathe­rine COLLIE - Mail: catherine.collie@hainaut.be - Tél.: +32 65 342 598 \n 
URL:https://cpa-coeurduhainaut.be/evenement/5e-edition-du-festival-nourrir-le-coeur-du-hainaut-seance-dinformation-en-ligne-2026-1/
LOCATION:En ligne
ATTACH;FMTTYPE=image/jpeg:https://cpa-coeurduhainaut.be/wp-content/uploads/2025/04/banner_nourrir2025NEW2.jpg
END:VEVENT
BEGIN:VEVENT
DTSTART;TZID=Europe/Helsinki:20260522T120000
DTEND;TZID=Europe/Helsinki:20260522T130000
DTSTAMP:20260424T114236
CREATED:20260417T082100Z
LAST-MODIFIED:20260417T083816Z
UID:8117-1779451200-1779454800@cpa-coeurduhainaut.be
SUMMARY:5e édition du Festival "Nourrir le Cœur du Hainaut" - Séance d'information en ligne (2/2)
DESCRIPTION:  \nEnvie d’en apprendre plus sur la 5e édi­tion du Fes­ti­val “Nour­rir le Coeur du Hainaut” ? \n  \nIns­crip­tions: via ce for­mu­laire \n  \nInfor­ma­tions:  \n  \nPro­vince de Hai­naut - Hai­naut Développement  \nCathe­rine COLLIE - Mail: catherine.collie@hainaut.be - Tél.: +32 65 342 598 \n 
URL:https://cpa-coeurduhainaut.be/evenement/5e-edition-du-festival-nourrir-le-coeur-du-hainaut-seance-dinformation-en-ligne-2026-2/
LOCATION:En ligne
ATTACH;FMTTYPE=image/jpeg:https://cpa-coeurduhainaut.be/wp-content/uploads/2025/04/banner_nourrir2025NEW2.jpg
END:VEVENT
END:VCALENDAR