BEGIN:VCALENDAR
VERSION:2.0
PRODID:-//CPA CŒUR DU HAINAUT - ECPv6.15.20//NONSGML v1.0//EN
CALSCALE:GREGORIAN
METHOD:PUBLISH
X-ORIGINAL-URL:https://cpa-coeurduhainaut.be
X-WR-CALDESC:Évènements pour CPA CŒUR DU HAINAUT
REFRESH-INTERVAL;VALUE=DURATION:PT1H
X-Robots-Tag:noindex
X-PUBLISHED-TTL:PT1H
BEGIN:VTIMEZONE
TZID:Europe/Helsinki
BEGIN:DAYLIGHT
TZOFFSETFROM:+0200
TZOFFSETTO:+0300
TZNAME:EEST
DTSTART:20250330T010000
END:DAYLIGHT
BEGIN:STANDARD
TZOFFSETFROM:+0300
TZOFFSETTO:+0200
TZNAME:EET
DTSTART:20251026T010000
END:STANDARD
BEGIN:DAYLIGHT
TZOFFSETFROM:+0200
TZOFFSETTO:+0300
TZNAME:EEST
DTSTART:20260329T010000
END:DAYLIGHT
BEGIN:STANDARD
TZOFFSETFROM:+0300
TZOFFSETTO:+0200
TZNAME:EET
DTSTART:20261025T010000
END:STANDARD
BEGIN:DAYLIGHT
TZOFFSETFROM:+0200
TZOFFSETTO:+0300
TZNAME:EEST
DTSTART:20270328T010000
END:DAYLIGHT
BEGIN:STANDARD
TZOFFSETFROM:+0300
TZOFFSETTO:+0200
TZNAME:EET
DTSTART:20271031T010000
END:STANDARD
END:VTIMEZONE
BEGIN:VEVENT
DTSTART;TZID=Europe/Helsinki:20260908T170000
DTEND;TZID=Europe/Helsinki:20260908T183000
DTSTAMP:20260425T034740
CREATED:20260417T090359Z
LAST-MODIFIED:20260417T090359Z
UID:8125-1788886800-1788892200@cpa-coeurduhainaut.be
SUMMARY:5e édition du Festival "Nourrir le Cœur du Hainaut" - Réunion de communication
DESCRIPTION:  \nUn ren­dez-vous convi­vial\, le mar­di 8 sep­tembre (17h-18h30) à Mons\, pour récu­pé­rer votre maté­riel de com­mu­ni­ca­tion du fes­ti­val et s’entraider dans la pro­mo­tion des dif­fé­rentes activités \n \nIns­crip­tions : via ce for­mu­laire  \n  \nContact:  \n  \nPro­vince de Hai­naut - Hai­naut Développement  \nCathe­rine COLLIE - Mail: catherine.collie@hainaut.be - Tél.: +32 65 342 598 \n 
URL:https://cpa-coeurduhainaut.be/evenement/5e-edition-du-festival-nourrir-le-coeur-du-hainaut-reunion-de-communication/
LOCATION:Hainaut Développement\, Boulevard Initialis 22\, Mons\, Hainaut\, 7000\, Belgique
ATTACH;FMTTYPE=image/jpeg:https://cpa-coeurduhainaut.be/wp-content/uploads/2025/04/banner_nourrir2025NEW2.jpg
END:VEVENT
END:VCALENDAR